{"text_format":"1","workbook":"xlsx","n_sheets":3,"sheets":["Blad2","Blad3","Blad1"],"not_rendered":{"charts":0,"images":0,"macros":1,"external_links":0,"defined_names":0,"comments":0,"pivot_tables":0},"unopened":[],"bounds":{"document_bytes":16777216,"sheet_cells":100000,"rows_first":2000,"rows_last":500,"rows_between":2000,"halvings":0,"cell_chars":16384,"cell_head_chars":4096},"cells_cut":0,"cells_raw":0,"read":"whole","date_system":"1900"}

{"sheet":"Blad2","index":0,"n_rows":29,"n_cols":22,"rows_kept":29,"cut":false,"hidden":false,"merged":[[12,4,12,7],[12,10,12,11],[12,14,12,15],[12,18,12,19]]}
[]
["Återställning"]
[]
[]
["Välj antal race"]
[]
[]
["Regatta:"]
["Datum:"]
["Tävlingsfunktionärer:  "]
["Vind:"]
[]
["Startande information",null,null,null,"Race 1",null,null,null,null,null,"Race 2",null,null,null,"Race 3",null,null,null,"Race 4"]
["Båt/Team","Rorsman","Båttyp","SRS","min","sek",null,"plac","DNF DNS\nOCS ","Plac","min","sek","DNF DNS\nOCS ","Plac","min","sek","DNF DNS\nOCS ","Plac","min","sek","DNF DNS\nOCS ","Plac"]
[null,null,null,null,null,null,{"$f":"IF(AND(E15=\"\",F15=\"\"),SUM(#REF!),#REF!)","v":{"$error":"#REF!"}},{"$f":"IF(SUM(#REF!)=0,0,RANK(G15,G$15:G$29,1))","v":{"$error":"#REF!"}},{"$f":"Blad1!CD6","v":""},{"$f":"IF(AND(E15=\"\",F15=\"\"),Blad1!L6&\"  \"&I15,Blad1!L6)","v":"  "},null,null,{"$f":"Blad1!CE6","v":""},{"$f":"IF(AND(I15=\"\",J15=\"\"),Blad1!S6&\"  \"&M15,Blad1!S6)","v":""},null,null,{"$f":"Blad1!CF6","v":""},{"$f":"IF(AND(M15=\"\",N15=\"\"),Blad1!Z6&\"  \"&Q15,Blad1!Z6)","v":"  "},null,null,{"$f":"Blad1!CG6","v":""},{"$f":"IF(AND(Q15=\"\",R15=\"\"),Blad1!AG6&\"  \"&U15,Blad1!AG6)","v":""}]
[null,null,null,null,null,null,{"$f":"IF(AND(E16=\"\",F16=\"\"),SUM(#REF!),#REF!)","v":{"$error":"#REF!"}},{"$f":"IF(SUM(#REF!)=0,0,RANK(G16,G$15:G$29,1))","v":{"$error":"#REF!"}},{"$f":"Blad1!CD7","v":""},{"$f":"IF(AND(E16=\"\",F16=\"\"),Blad1!L7&\"  \"&I16,Blad1!L7)","v":"  "},null,null,{"$f":"Blad1!CE7","v":""},{"$f":"IF(AND(I16=\"\",J16=\"\"),Blad1!S7&\"  \"&M16,Blad1!S7)","v":""},null,null,{"$f":"Blad1!CF7","v":""},{"$f":"IF(AND(M16=\"\",N16=\"\"),Blad1!Z7&\"  \"&Q16,Blad1!Z7)","v":"  "},null,null,{"$f":"Blad1!CG7","v":""},{"$f":"IF(AND(Q16=\"\",R16=\"\"),Blad1!AG7&\"  \"&U16,Blad1!AG7)","v":""}]
[null,null,null,null,null,null,{"$f":"IF(AND(E17=\"\",F17=\"\"),SUM(#REF!),#REF!)","v":{"$error":"#REF!"}},{"$f":"IF(SUM(#REF!)=0,0,RANK(G17,G$15:G$29,1))","v":{"$error":"#REF!"}},{"$f":"Blad1!CD8","v":""},{"$f":"IF(AND(E17=\"\",F17=\"\"),Blad1!L8&\"  \"&I17,Blad1!L8)","v":"  "},null,null,{"$f":"Blad1!CE8","v":""},{"$f":"IF(AND(I17=\"\",J17=\"\"),Blad1!S8&\"  \"&M17,Blad1!S8)","v":""},null,null,{"$f":"Blad1!CF8","v":""},{"$f":"IF(AND(M17=\"\",N17=\"\"),Blad1!Z8&\"  \"&Q17,Blad1!Z8)","v":"  "},null,null,{"$f":"Blad1!CG8","v":""},{"$f":"IF(AND(Q17=\"\",R17=\"\"),Blad1!AG8&\"  \"&U17,Blad1!AG8)","v":""}]
[null,null,null,null,null,null,{"$f":"IF(AND(E18=\"\",F18=\"\"),SUM(#REF!),#REF!)","v":{"$error":"#REF!"}},{"$f":"IF(SUM(#REF!)=0,0,RANK(G18,G$15:G$29,1))","v":{"$error":"#REF!"}},{"$f":"Blad1!CD9","v":""},{"$f":"IF(AND(E18=\"\",F18=\"\"),Blad1!L9&\"  \"&I18,Blad1!L9)","v":"  "},null,null,{"$f":"Blad1!CE9","v":""},{"$f":"IF(AND(I18=\"\",J18=\"\"),Blad1!S9&\"  \"&M18,Blad1!S9)","v":""},null,null,{"$f":"Blad1!CF9","v":""},{"$f":"IF(AND(M18=\"\",N18=\"\"),Blad1!Z9&\"  \"&Q18,Blad1!Z9)","v":"  "},null,null,{"$f":"Blad1!CG9","v":""},{"$f":"IF(AND(Q18=\"\",R18=\"\"),Blad1!AG9&\"  \"&U18,Blad1!AG9)","v":""}]
[null,null,null,null,null,null,{"$f":"IF(AND(E19=\"\",F19=\"\"),SUM(#REF!),#REF!)","v":{"$error":"#REF!"}},{"$f":"IF(SUM(#REF!)=0,0,RANK(G19,G$15:G$29,1))","v":{"$error":"#REF!"}},{"$f":"Blad1!CD10","v":""},{"$f":"IF(AND(E19=\"\",F19=\"\"),Blad1!L10&\"  \"&I19,Blad1!L10)","v":"  "},null,null,{"$f":"Blad1!CE10","v":""},{"$f":"IF(AND(I19=\"\",J19=\"\"),Blad1!S10&\"  \"&M19,Blad1!S10)","v":""},null,null,{"$f":"Blad1!CF10","v":""},{"$f":"IF(AND(M19=\"\",N19=\"\"),Blad1!Z10&\"  \"&Q19,Blad1!Z10)","v":"  "},null,null,{"$f":"Blad1!CG10","v":""},{"$f":"IF(AND(Q19=\"\",R19=\"\"),Blad1!AG10&\"  \"&U19,Blad1!AG10)","v":""}]
[null,null,null,null,null,null,{"$f":"IF(AND(E20=\"\",F20=\"\"),SUM(#REF!),#REF!)","v":{"$error":"#REF!"}},{"$f":"IF(SUM(#REF!)=0,0,RANK(G20,G$15:G$29,1))","v":{"$error":"#REF!"}},{"$f":"Blad1!CD11","v":""},{"$f":"IF(AND(E20=\"\",F20=\"\"),Blad1!L11&\"  \"&I20,Blad1!L11)","v":"  "},null,null,{"$f":"Blad1!CE11","v":""},{"$f":"IF(AND(I20=\"\",J20=\"\"),Blad1!S11&\"  \"&M20,Blad1!S11)","v":""},null,null,{"$f":"Blad1!CF11","v":""},{"$f":"IF(AND(M20=\"\",N20=\"\"),Blad1!Z11&\"  \"&Q20,Blad1!Z11)","v":"  "},null,null,{"$f":"Blad1!CG11","v":""},{"$f":"IF(AND(Q20=\"\",R20=\"\"),Blad1!AG11&\"  \"&U20,Blad1!AG11)","v":""}]
[null,null,null,null,null,null,{"$f":"IF(AND(E21=\"\",F21=\"\"),SUM(#REF!),#REF!)","v":{"$error":"#REF!"}},{"$f":"IF(SUM(#REF!)=0,0,RANK(G21,G$15:G$29,1))","v":{"$error":"#REF!"}},{"$f":"Blad1!CD12","v":""},{"$f":"IF(AND(E21=\"\",F21=\"\"),Blad1!L12&\"  \"&I21,Blad1!L12)","v":"  "},null,null,{"$f":"Blad1!CE12","v":""},{"$f":"IF(AND(I21=\"\",J21=\"\"),Blad1!S12&\"  \"&M21,Blad1!S12)","v":""},null,null,{"$f":"Blad1!CF12","v":""},{"$f":"IF(AND(M21=\"\",N21=\"\"),Blad1!Z12&\"  \"&Q21,Blad1!Z12)","v":"  "},null,null,{"$f":"Blad1!CG12","v":""},{"$f":"IF(AND(Q21=\"\",R21=\"\"),Blad1!AG12&\"  \"&U21,Blad1!AG12)","v":""}]
[null,null,null,null,null,null,{"$f":"IF(AND(E22=\"\",F22=\"\"),SUM(#REF!),#REF!)","v":{"$error":"#REF!"}},{"$f":"IF(SUM(#REF!)=0,0,RANK(G22,G$15:G$29,1))","v":{"$error":"#REF!"}},{"$f":"Blad1!CD13","v":""},{"$f":"IF(AND(E22=\"\",F22=\"\"),Blad1!L13&\"  \"&I22,Blad1!L13)","v":"  "},null,null,{"$f":"Blad1!CE13","v":""},{"$f":"IF(AND(I22=\"\",J22=\"\"),Blad1!S13&\"  \"&M22,Blad1!S13)","v":""},null,null,{"$f":"Blad1!CF13","v":""},{"$f":"IF(AND(M22=\"\",N22=\"\"),Blad1!Z13&\"  \"&Q22,Blad1!Z13)","v":"  "},null,null,{"$f":"Blad1!CG13","v":""},{"$f":"IF(AND(Q22=\"\",R22=\"\"),Blad1!AG13&\"  \"&U22,Blad1!AG13)","v":""}]
[null,null,null,null,null,null,{"$f":"IF(AND(E23=\"\",F23=\"\"),SUM(#REF!),#REF!)","v":{"$error":"#REF!"}},{"$f":"IF(SUM(#REF!)=0,0,RANK(G23,G$15:G$29,1))","v":{"$error":"#REF!"}},{"$f":"Blad1!CD14","v":""},{"$f":"IF(AND(E23=\"\",F23=\"\"),Blad1!L14&\"  \"&I23,Blad1!L14)","v":"  "},null,null,{"$f":"Blad1!CE14","v":""},{"$f":"IF(AND(I23=\"\",J23=\"\"),Blad1!S14&\"  \"&M23,Blad1!S14)","v":""},null,null,{"$f":"Blad1!CF14","v":""},{"$f":"IF(AND(M23=\"\",N23=\"\"),Blad1!Z14&\"  \"&Q23,Blad1!Z14)","v":"  "},null,null,{"$f":"Blad1!CG14","v":""},{"$f":"IF(AND(Q23=\"\",R23=\"\"),Blad1!AG14&\"  \"&U23,Blad1!AG14)","v":""}]
[null,null,null,null,null,null,{"$f":"IF(AND(E24=\"\",F24=\"\"),SUM(#REF!),#REF!)","v":{"$error":"#REF!"}},{"$f":"IF(SUM(#REF!)=0,0,RANK(G24,G$15:G$29,1))","v":{"$error":"#REF!"}},{"$f":"Blad1!CD15","v":""},{"$f":"IF(AND(E24=\"\",F24=\"\"),Blad1!L15&\"  \"&I24,Blad1!L15)","v":"  "},null,null,{"$f":"Blad1!CE15","v":""},{"$f":"IF(AND(I24=\"\",J24=\"\"),Blad1!S15&\"  \"&M24,Blad1!S15)","v":""},null,null,{"$f":"Blad1!CF15","v":""},{"$f":"IF(AND(M24=\"\",N24=\"\"),Blad1!Z15&\"  \"&Q24,Blad1!Z15)","v":"  "},null,null,{"$f":"Blad1!CG15","v":""},{"$f":"IF(AND(Q24=\"\",R24=\"\"),Blad1!AG15&\"  \"&U24,Blad1!AG15)","v":""}]
[null,null,null,null,null,null,{"$f":"IF(AND(E25=\"\",F25=\"\"),SUM(#REF!),#REF!)","v":{"$error":"#REF!"}},{"$f":"IF(SUM(#REF!)=0,0,RANK(G25,G$15:G$29,1))","v":{"$error":"#REF!"}},{"$f":"Blad1!CD16","v":""},{"$f":"IF(AND(E25=\"\",F25=\"\"),Blad1!L16&\"  \"&I25,Blad1!L16)","v":"  "},null,null,{"$f":"Blad1!CE16","v":""},{"$f":"IF(AND(I25=\"\",J25=\"\"),Blad1!S16&\"  \"&M25,Blad1!S16)","v":""},null,null,{"$f":"Blad1!CF16","v":""},{"$f":"IF(AND(M25=\"\",N25=\"\"),Blad1!Z16&\"  \"&Q25,Blad1!Z16)","v":"  "},null,null,{"$f":"Blad1!CG16","v":""},{"$f":"IF(AND(Q25=\"\",R25=\"\"),Blad1!AG16&\"  \"&U25,Blad1!AG16)","v":""}]
[null,null,null,null,null,null,{"$f":"IF(AND(E26=\"\",F26=\"\"),SUM(#REF!),#REF!)","v":{"$error":"#REF!"}},{"$f":"IF(SUM(#REF!)=0,0,RANK(G26,G$15:G$29,1))","v":{"$error":"#REF!"}},{"$f":"Blad1!CD17","v":""},{"$f":"IF(AND(E26=\"\",F26=\"\"),Blad1!L17&\"  \"&I26,Blad1!L17)","v":"  "},null,null,{"$f":"Blad1!CE17","v":""},{"$f":"IF(AND(I26=\"\",J26=\"\"),Blad1!S17&\"  \"&M26,Blad1!S17)","v":""},null,null,{"$f":"Blad1!CF17","v":""},{"$f":"IF(AND(M26=\"\",N26=\"\"),Blad1!Z17&\"  \"&Q26,Blad1!Z17)","v":"  "},null,null,{"$f":"Blad1!CG17","v":""},{"$f":"IF(AND(Q26=\"\",R26=\"\"),Blad1!AG17&\"  \"&U26,Blad1!AG17)","v":""}]
[null,null,null,null,null,null,{"$f":"IF(AND(E27=\"\",F27=\"\"),SUM(#REF!),#REF!)","v":{"$error":"#REF!"}},{"$f":"IF(SUM(#REF!)=0,0,RANK(G27,G$15:G$29,1))","v":{"$error":"#REF!"}},{"$f":"Blad1!CD18","v":""},{"$f":"IF(AND(E27=\"\",F27=\"\"),Blad1!L18&\"  \"&I27,Blad1!L18)","v":"  "},null,null,{"$f":"Blad1!CE18","v":""},{"$f":"IF(AND(I27=\"\",J27=\"\"),Blad1!S18&\"  \"&M27,Blad1!S18)","v":""},null,null,{"$f":"Blad1!CF18","v":""},{"$f":"IF(AND(M27=\"\",N27=\"\"),Blad1!Z18&\"  \"&Q27,Blad1!Z18)","v":"  "},null,null,{"$f":"Blad1!CG18","v":""},{"$f":"IF(AND(Q27=\"\",R27=\"\"),Blad1!AG18&\"  \"&U27,Blad1!AG18)","v":""}]
[null,null,null,null,null,null,{"$f":"IF(AND(E28=\"\",F28=\"\"),SUM(#REF!),#REF!)","v":{"$error":"#REF!"}},{"$f":"IF(SUM(#REF!)=0,0,RANK(G28,G$15:G$29,1))","v":{"$error":"#REF!"}},{"$f":"Blad1!CD19","v":""},{"$f":"IF(AND(E28=\"\",F28=\"\"),Blad1!L19&\"  \"&I28,Blad1!L19)","v":"  "},null,null,{"$f":"Blad1!CE19","v":""},{"$f":"IF(AND(I28=\"\",J28=\"\"),Blad1!S19&\"  \"&M28,Blad1!S19)","v":""},null,null,{"$f":"Blad1!CF19","v":""},{"$f":"IF(AND(M28=\"\",N28=\"\"),Blad1!Z19&\"  \"&Q28,Blad1!Z19)","v":"  "},null,null,{"$f":"Blad1!CG19","v":""},{"$f":"IF(AND(Q28=\"\",R28=\"\"),Blad1!AG19&\"  \"&U28,Blad1!AG19)","v":""}]
[null,null,null,null,null,null,{"$f":"IF(AND(E29=\"\",F29=\"\"),SUM(#REF!),#REF!)","v":{"$error":"#REF!"}},{"$f":"IF(SUM(#REF!)=0,0,RANK(G29,G$15:G$29,1))","v":{"$error":"#REF!"}},{"$f":"Blad1!CD20","v":""},{"$f":"IF(AND(E29=\"\",F29=\"\"),Blad1!L20&\"  \"&I29,Blad1!L20)","v":"  "},null,null,{"$f":"Blad1!CE20","v":""},{"$f":"IF(AND(I29=\"\",J29=\"\"),Blad1!S20&\"  \"&M29,Blad1!S20)","v":""},null,null,{"$f":"Blad1!CF20","v":""},{"$f":"IF(AND(M29=\"\",N29=\"\"),Blad1!Z20&\"  \"&Q29,Blad1!Z20)","v":"  "},null,null,{"$f":"Blad1!CG20","v":""},{"$f":"IF(AND(Q29=\"\",R29=\"\"),Blad1!AG20&\"  \"&U29,Blad1!AG20)","v":""}]

{"sheet":"Blad3","index":1,"n_rows":25,"n_cols":15,"rows_kept":25,"cut":false,"hidden":false,"merged":[[24,1,29,6]]}
[]
[null,null,"Regatta:",{"$f":"IF(Blad2!B8=\"\",\"\",Blad2!B8)","v":""}]
[null,null,"Datum:",{"$f":"IF(Blad2!B9=\"\",\"\",Blad2!B9)","v":""}]
[null,null,"Tävlingsfunktionärer:  ",{"$f":"IF(Blad2!B10=\"\",\"\",Blad2!B10)","v":""}]
[null,null,"Vind:",{"$f":"IF(Blad2!B11=\"\",\"\",Blad2!B11)","v":""}]
[]
[null,"Slutresultat","Startande information",null,null,null,"Race 1",null,"Race 2",null,"Race 3",null,"Race 4"]
[null,"Plac.","Båt/Team","Rorsman","Båttyp","SRS","Plac","Fakt.tid till pl1 [sek]","Plac","Fakt.tid till pl1 [sek]","Plac","Fakt.tid till pl1 [sek]","Plac","Fakt.tid till pl1 [sek]","Struken"]
[null,{"$f":"Blad1!A6","v":""},null,null,null,null,null,null,null,null,null,null,null,null,{"$f":"Blad1!AH6","v":""}]
[null,{"$f":"Blad1!A7","v":""},null,null,null,null,null,null,null,null,null,null,null,null,{"$f":"Blad1!AH7","v":""}]
[null,{"$f":"Blad1!A8","v":""},null,null,null,null,null,null,null,null,null,null,null,null,{"$f":"Blad1!AH8","v":""}]
[null,{"$f":"Blad1!A9","v":""},null,null,null,null,null,null,null,null,null,null,null,null,{"$f":"Blad1!AH9","v":""}]
[null,{"$f":"Blad1!A10","v":""},null,null,null,null,null,null,null,null,null,null,null,null,{"$f":"Blad1!AH10","v":""}]
[null,{"$f":"Blad1!A11","v":""},null,null,null,null,null,null,null,null,null,null,null,null,{"$f":"Blad1!AH11","v":""}]
[null,{"$f":"Blad1!A12","v":""},null,null,null,null,null,null,null,null,null,null,null,null,{"$f":"Blad1!AH12","v":""}]
[null,{"$f":"Blad1!A13","v":""},null,null,null,null,null,null,null,null,null,null,null,null,{"$f":"Blad1!AH13","v":""}]
[null,{"$f":"Blad1!A14","v":""},null,null,null,null,null,null,null,null,null,null,null,null,{"$f":"Blad1!AH14","v":""}]
[null,{"$f":"Blad1!A15","v":""},null,null,null,null,null,null,null,null,null,null,null,null,{"$f":"Blad1!AH15","v":""}]
[null,{"$f":"Blad1!A16","v":""},null,null,null,null,null,null,null,null,null,null,null,null,{"$f":"Blad1!AH16","v":""}]
[null,{"$f":"Blad1!A17","v":""},null,null,null,null,null,null,null,null,null,null,null,null,{"$f":"Blad1!AH17","v":""}]
[null,{"$f":"Blad1!A18","v":""},null,null,null,null,null,null,null,null,null,null,null,null,{"$f":"Blad1!AH18","v":""}]
[null,{"$f":"Blad1!A19","v":""},null,null,null,null,null,null,null,null,null,null,null,null,{"$f":"Blad1!AH19","v":""}]
[null,{"$f":"Blad1!A20","v":""},null,null,null,null,null,null,null,null,null,null,null,null,{"$f":"Blad1!AH20","v":""}]
[]
[null,"Efter 1,5 timmars väntan på vind så beslutades det banändring till att runda Melpad och tillbaka. Stort tack till Bengt Korpås som fixade allt själv med tidtagning och korvgrillning!"]

{"sheet":"Blad1","index":2,"n_rows":21,"n_cols":89,"rows_kept":21,"cut":false,"hidden":false,"merged":[[0,4,0,6]]}
[null,"Kopparhinken  nr ",null,null,"2013-"]
[null,"Tävlingsfunktionärer:  "]
[null,"Vind:"]
["Slutresultat","Startande information",null,null,null,"Race 1",null,null,null,null,null,null,"Race 2",null,null,null,null,null,null,"Race 3",null,null,null,null,null,null,"Race 4",null,null,null,null,null,null,"Summering (och beräkning i steg)",null,null,null,null,null,null,null,null,null,null,null,null,null,null,null,null,null,null,null,null,null,null,null,null,null,null,null,null,null,null,null,null,null,null,null,null,null,null,null,null,null,null,null,null,null,null,null,null,null,null,null,"Tidsskillnad från seger"]
["Placering","Båt/Team","Rorsman","Båttyp","SRS","min","sek","korr\nsek",null,"plac","DNF DNS\nOCS ","Plac","min","sek","korr\nsek",null,"plac","DNF DNS\nOCS ","Plac","min","sek","korr\nsek",null,"plac","DNF DNS\nOCS ","Plac","min","sek","korr\nsek",null,"plac","DNF DNS\nOCS ","Plac","struken placering","plac\nsum ",null,"Slutresultat\nefter summering",null,"Slutresultat efter inbördes jmf",null," Slutresultat (efter sista race)",null,1,2,3,4,5,6,7,8,9,10,11,12,13,14,15,null,null,null,null,null,null,"rang",null,"rang",null,"rang",null,"rang"," summarang","total bästa placering","tillägg bästa placering",null,"tillägg sista placering",null,null,null,null,null,null,null,null,null,null,1,2,3,4]
[{"$f":"IF(SUM(AI$6:AI$20)=0,\"\",AO6)","v":""},{"$f":"Blad2!A15","v":0},{"$f":"Blad2!B15","v":0},{"$f":"Blad2!C15","v":0},{"$f":"IF(Blad2!D15=\"\",\"\",Blad2!D15)","v":""},{"$f":"Blad2!E15","v":0},{"$f":"Blad2!F15","v":0},{"$f":"IF((F6*60+G6)*IF($E6=\"\",0,E6)=0,\"\",(F6*60+G6)*$E6)","v":""},{"$f":"IF(AND(F6=0,G6=0),SUM(H$6:H$20),H6)","v":0},{"$f":"IF(SUM(H$6:H$20)=0,0,RANK(I6,I$6:I$20,1))","v":0},{"$f":"Blad2!I15","v":""},{"$f":"IF(AND($E6<>\"\",K6=\"\"),J6,IF(E6=\"\",\"\",COUNT($E$6:$E$20)+1))","v":""},{"$f":"Blad2!K15","v":0},{"$f":"Blad2!L15","v":0},{"$f":"IF((M6*60+N6)*IF($E6=\"\",0,$E6)=0,\"\",(M6*60+N6)*$E6)","v":""},{"$f":"IF(AND(M6=0,N6=0),SUM(O$6:O$20),O6)","v":0},{"$f":"IF(SUM(O$6:O$20)=0,0,RANK(P6,P$6:P$20,1))","v":0},{"$f":"Blad2!M15","v":""},{"$f":"IF(AND($E6<>\"\",R6=\"\"),Q6,IF(L6=\"\",\"\",COUNT($E$6:$E$20)+1))","v":""},{"$f":"Blad2!O15","v":0},{"$f":"Blad2!P15","v":0},{"$f":"IF((T6*60+U6)*IF($E6=\"\",0,$E6)=0,\"\",(T6*60+U6)*$E6)","v":""},{"$f":"IF(AND(T6=0,U6=0),SUM(V$6:V$20),V6)","v":0},{"$f":"IF(SUM(V$6:V$20)=0,0,RANK(W6,W$6:W$20,1))","v":0},{"$f":"Blad2!Q15","v":""},{"$f":"IF(AND($E6<>\"\",Y6=\"\"),X6,IF(S6=\"\",\"\",COUNT($E$6:$E$20)+1))","v":""},{"$f":"Blad2!S15","v":0},{"$f":"Blad2!T15","v":0},{"$f":"IF((AA6*60+AB6)*IF($E6=\"\",0,$E6)=0,\"\",(AA6*60+AB6)*$E6)","v":""},{"$f":"IF(AND(AA6=0,AB6=0),SUM(AC$6:AC$20),AC6)","v":0},{"$f":"IF(SUM(AC$6:AC$20)=0,0,RANK(AD6,AD$6:AD$20,1))","v":0},{"$f":"Blad2!U15","v":""},{"$f":"IF(AND($E6<>\"\",AF6=\"\"),AE6,IF(Z6=\"\",\"\",COUNT($E$6:$E$20)+1))","v":""},{"$f":"IF(E6=\"\",\"\",IF(SUM(AC$6:AC$20)=0,\"ingen\",IF(AG6>=MAX(Z6,S6,L6),\"Race 4\",IF(Z6>=MAX(AG6,S6,L6),\"Race 3\",IF(S6>=MAX(AG6,Z6,L6),\"Race 2\",\"Race 1\")))))","v":""},{"$f":"IF(AH6=\"ingen\",L6+S6+Z6+AG6,IF(AH6=\"Race 1\",S6+Z6+AG6,IF(AH6=\"Race 2\",L6+Z6+AG6,IF(AH6=\"Race 3\",L6+S6+AG6,IF(AH6=\"Race 4\",L6+S6+Z6,\"\")))))","v":""},{"$f":"IF(AI6=\"\",100,AI6)","v":100},{"$f":"IF(AI6<>\"\",RANK(AJ6,AJ$6:AJ$20,1),\"\")","v":""},{"$f":"AJ6+BU6","v":100},{"$f":"IF(AL6=100,\"\",_xlfn.RANK.EQ(AL6,AL$6:AL$20,1))","v":""},{"$f":"AJ6+BU6+BW6","v":100},{"$f":"IF(AN6=100,\"\",_xlfn.RANK.EQ(AN6,AN$6:AN$20,1))","v":""},{"$f":"IF(OR(AK$7=AK6,AK$8=AK6,AK$9=AK6,AK$10=AK6,AK$11=AK6,AK$12=AK6,AK$13=AK6,AK$14=AK6,AK$15=AK6,AK$16=AK6,AK$17=AK6,AK$18=AK6,AK$19=AK6,AK$20=AK6),AK6,0)","v":""},{"$f":"IF($AP6=AQ$5,AQ$5,\"\")","v":""},{"$f":"IF($AP6=AR$5,AR$5,\"\")","v":""},"","","","","","","","","","","","","",null,{"$f":"IF(AH6=\"Race 1\",30,L6)","v":""},{"$f":"IF(AH6=\"Race 2\",30,S6)","v":""},{"$f":"IF(AH6=\"Race 3\",30,Z6)","v":""},{"$f":"IF(AH6=\"Race 4\",30,AG6)","v":""},{"$f":"IF(SUM(BG6:BJ6)=0,0,SMALL($BG6:$BJ6,1))","v":0},{"$f":"IF(SUM(AQ6:BE6)=0,0,_xlfn.RANK.EQ(BK6,BK$6:BK$20,1))","v":0},{"$f":"IF(SUM(BG6:BJ6)=0,0,SMALL($BG6:$BJ6,2))","v":0},{"$f":"IF(SUM(AQ6:BE6)=0,0,_xlfn.RANK.EQ(BM6,BM$6:BM$20,1))","v":0},{"$f":"IF(SUM(BG6:BJ6)=0,0,SMALL($BG6:$BJ6,3))","v":0},{"$f":"IF(SUM(AQ6:BE6)=0,0,_xlfn.RANK.EQ(BO6:BO20,BO$6:BO$20,1))","v":0},{"$f":"IF(SUM(BG6:BJ6)=0,0,SMALL($BG6:$BJ6,4))","v":0},{"$f":"IF(SUM(AQ6:BE6)=0,0,_xlfn.RANK.EQ(BQ6:BQ20,BQ$6:BQ$20,1))","v":0},{"$f":"IF(BL6+BN6+BP6+BR6=0,100,BL6+BN6+BP6+BR6)","v":100},{"$f":"IF(SUM(AQ6:BE6)=0,0,_xlfn.RANK.EQ(BS6,BS$6:BS$20,1))","v":0},{"$f":"BT6/100","v":0},{"$f":"IF(IF(SUM(L$6:L$20)=0,0,IF(SUM(S$6:S$20)=0,L6,IF(SUM(Z$6:Z$20)=0,S6,IF(AG6=\"\",0,AG6))))=\"\",0,IF(SUM(L$6:L$20)=0,0,IF(SUM(S$6:S$20)=0,L6,IF(SUM(Z$6:Z$20)=0,S6,IF(AG6=\"\",0,AG6)))))","v":0},{"$f":"BV6/1000","v":0},{"$f":"SUM(BK6:BQ6)","v":0},{"$f":"IF($AP6=\"\",\"\",16-BK6)","v":""},{"$f":"IF($AP6=\"\",\"\",16-BM6)","v":""},{"$f":"IF($AP6=\"\",\"\",16-BO6)","v":""},{"$f":"IF($AP6=\"\",\"\",16-BQ6)","v":""},null,{"$f":"IF(OR(SUM(H$6:H$20)=0,AND($E6<>\"\",I6<SUM(H$6:H$20)),H6<>\"\"),\"\",IF($E6=\"\",\"\",\"anm?\"))","v":""},{"$f":"IF(OR(SUM(O$6:O$20)=0,AND($E6<>\"\",P6<SUM(O$6:O$20)),O6<>\"\"),\"\",IF($E6=\"\",\"\",\"anm?\"))","v":""},{"$f":"IF(OR(SUM(V$6:V$20)=0,AND($E6<>\"\",W6<SUM(V$6:V$20)),V6<>\"\"),\"\",IF($E6=\"\",\"\",\"anm?\"))","v":""},{"$f":"IF(OR(SUM(AC$6:AC$20)=0,AND($E6<>\"\",AD6<SUM(AC$6:AC$20)),AC6<>\"\"),\"\",IF($E6=\"\",\"\",\"anm?\"))","v":""},{"$f":"IF(H6=\"\",\"\",(H6-H$21)/E6)","v":""},{"$f":"IF(O6=\"\",\"\",(O6-O$21)/E6)","v":""},{"$f":"IF(V6=\"\",\"\",(V6-V$21)/E6)","v":""},{"$f":"IF(AC6=\"\",\"\",(AC6-AC$21)/E6)","v":""}]
[{"$f":"IF(SUM(AI$6:AI$20)=0,\"\",AO7)","v":""},{"$f":"Blad2!A16","v":0},{"$f":"Blad2!B16","v":0},{"$f":"Blad2!C16","v":0},{"$f":"IF(Blad2!D16=\"\",\"\",Blad2!D16)","v":""},{"$f":"Blad2!E16","v":0},{"$f":"Blad2!F16","v":0},"",0,0,{"$f":"Blad2!I16","v":""},"",{"$f":"Blad2!K16","v":0},{"$f":"Blad2!L16","v":0},"",0,0,{"$f":"Blad2!M16","v":""},"",{"$f":"Blad2!O16","v":0},{"$f":"Blad2!P16","v":0},"",0,0,{"$f":"Blad2!Q16","v":""},"",{"$f":"Blad2!S16","v":0},{"$f":"Blad2!T16","v":0},"",0,0,{"$f":"Blad2!U16","v":""},"","","",100,{"$f":"IF(AI7<>\"\",RANK(AJ7,AJ$6:AJ$20,1),\"\")","v":""},100,{"$f":"IF(AL7=100,\"\",_xlfn.RANK.EQ(AL7,AL$6:AL$20,1))","v":""},100,{"$f":"IF(AN7=100,\"\",_xlfn.RANK.EQ(AN7,AN$6:AN$20,1))","v":""},{"$f":"IF(OR(AK$6=AK7,AK$8=AK7,AK$9=AK7,AK$10=AK7,AK$11=AK7,AK$12=AK7,AK$13=AK7,AK$14=AK7,AK$15=AK7,AK$16=AK7,AK$17=AK7,AK$18=AK7,AK$19=AK7,AK$20=AK7),AK7,0)","v":""},{"$f":"IF($AP7=AQ$5,AQ$5,\"\")","v":""},"","","","","","","","","","","","","","",null,"","","","",{"$f":"IF(SUM(BG7:BJ7)=0,0,SMALL($BG7:$BJ7,1))","v":0},{"$f":"IF(SUM(AQ7:BE7)=0,0,_xlfn.RANK.EQ(BK7,BK$6:BK$208,1))","v":0},{"$f":"IF(SUM(BG7:BJ7)=0,0,SMALL($BG7:$BJ7,2))","v":0},{"$f":"IF(SUM(AQ7:BE7)=0,0,_xlfn.RANK.EQ(BM7,BM$6:BM$20,1))","v":0},{"$f":"IF(SUM(BG7:BJ7)=0,0,SMALL($BG7:$BJ7,3))","v":0},{"$f":"IF(SUM(AQ7:BE7)=0,0,_xlfn.RANK.EQ(BO7:BO21,BO$6:BO$20,1))","v":0},{"$f":"IF(SUM(BG7:BJ7)=0,0,SMALL($BG7:$BJ7,4))","v":0},{"$f":"IF(SUM(AQ7:BE7)=0,0,_xlfn.RANK.EQ(BQ7:BQ21,BQ$6:BQ$20,1))","v":0},{"$f":"IF(BL7+BN7+BP7+BR7=0,100,BL7+BN7+BP7+BR7)","v":100},{"$f":"IF(SUM(AQ7:BE7)=0,0,_xlfn.RANK.EQ(BS7,BS$6:BS$20,1))","v":0},{"$f":"BT7/100","v":0},0,{"$f":"BV7/1000","v":0},{"$f":"SUM(BK7:BQ7)","v":0},{"$f":"IF($AP7=\"\",\"\",16-BK7)","v":""},{"$f":"IF($AP7=\"\",\"\",16-BM7)","v":""},{"$f":"IF($AP7=\"\",\"\",16-BO7)","v":""},"",null,"","","","",{"$f":"IF(H7=\"\",\"\",(H7-H$21)/E7)","v":""},{"$f":"IF(O7=\"\",\"\",(O7-O$21)/E7)","v":""},{"$f":"IF(V7=\"\",\"\",(V7-V$21)/E7)","v":""},{"$f":"IF(AC7=\"\",\"\",(AC7-AC$21)/E7)","v":""}]
["",{"$f":"Blad2!A17","v":0},{"$f":"Blad2!B17","v":0},{"$f":"Blad2!C17","v":0},{"$f":"IF(Blad2!D17=\"\",\"\",Blad2!D17)","v":""},{"$f":"Blad2!E17","v":0},{"$f":"Blad2!F17","v":0},"",0,0,{"$f":"Blad2!I17","v":""},"",{"$f":"Blad2!K17","v":0},{"$f":"Blad2!L17","v":0},"",0,0,{"$f":"Blad2!M17","v":""},"",{"$f":"Blad2!O17","v":0},{"$f":"Blad2!P17","v":0},"",0,0,{"$f":"Blad2!Q17","v":""},"",{"$f":"Blad2!S17","v":0},{"$f":"Blad2!T17","v":0},"",0,0,{"$f":"Blad2!U17","v":""},"","","",100,"",100,"",100,"",{"$f":"IF(OR(AK$6=AK8,AK$7=AK8,AK$9=AK8,AK$10=AK8,AK$11=AK8,AK$12=AK8,AK$13=AK8,AK$14=AK8,AK$15=AK8,AK$16=AK8,AK$17=AK8,AK$18=AK8,AK$19=AK8,AK$20=AK8),AK8,0)","v":""},"","","","","","","","","","","","","","","",null,"","","","",0,0,0,0,0,0,0,0,100,0,0,0,0,0,"","","","",null,"","","","","","","",""]
["",{"$f":"Blad2!A18","v":0},{"$f":"Blad2!B18","v":0},{"$f":"Blad2!C18","v":0},{"$f":"IF(Blad2!D18=\"\",\"\",Blad2!D18)","v":""},{"$f":"Blad2!E18","v":0},{"$f":"Blad2!F18","v":0},"",0,0,{"$f":"Blad2!I18","v":""},"",{"$f":"Blad2!K18","v":0},{"$f":"Blad2!L18","v":0},"",0,0,{"$f":"Blad2!M18","v":""},"",{"$f":"Blad2!O18","v":0},{"$f":"Blad2!P18","v":0},"",0,0,{"$f":"Blad2!Q18","v":""},"",{"$f":"Blad2!S18","v":0},{"$f":"Blad2!T18","v":0},"",0,0,{"$f":"Blad2!U18","v":""},"","","",100,"",100,"",100,"",{"$f":"IF(OR(AK$6=AK9,AK$7=AK9,AK$8=AK9,AK$10=AK9,AK$11=AK9,AK$12=AK9,AK$13=AK9,AK$14=AK9,AK$15=AK9,AK$16=AK9,AK$17=AK9,AK$18=AK9,AK$19=AK9,AK$20=AK9),AK9,0)","v":""},"","","","","","","","","","","","","","","",null,"","","","",0,0,0,0,0,0,0,0,{"$f":"IF(BL9+BN9+BP9+BR9=0,100,BL9+BN9+BP9+BR9)","v":100},0,0,0,0,0,"","","","",null,"","","","","","","",""]
["",{"$f":"Blad2!A19","v":0},{"$f":"Blad2!B19","v":0},{"$f":"Blad2!C19","v":0},{"$f":"IF(Blad2!D19=\"\",\"\",Blad2!D19)","v":""},{"$f":"Blad2!E19","v":0},{"$f":"Blad2!F19","v":0},"",0,0,{"$f":"Blad2!I19","v":""},"",{"$f":"Blad2!K19","v":0},{"$f":"Blad2!L19","v":0},"",0,0,{"$f":"Blad2!M19","v":""},"",{"$f":"Blad2!O19","v":0},{"$f":"Blad2!P19","v":0},"",0,0,{"$f":"Blad2!Q19","v":""},"",{"$f":"Blad2!S19","v":0},{"$f":"Blad2!T19","v":0},"",0,0,{"$f":"Blad2!U19","v":""},"","","",100,"",100,"",100,"",{"$f":"IF(OR(AK$6=AK10,AK$7=AK10,AK$8=AK10,AK$9=AK10,AK$11=AK10,AK$12=AK10,AK$13=AK10,AK$14=AK10,AK$15=AK10,AK$16=AK10,AK$17=AK10,AK$18=AK10,AK$19=AK10,AK$20=AK10),AK10,0)","v":""},"","","","","","","","","","","","","","","",null,"","","","",0,0,0,0,0,0,0,0,100,0,0,0,0,0,"","","","",null,"","","","","","","",""]
["",{"$f":"Blad2!A20","v":0},{"$f":"Blad2!B20","v":0},{"$f":"Blad2!C20","v":0},{"$f":"IF(Blad2!D20=\"\",\"\",Blad2!D20)","v":""},{"$f":"Blad2!E20","v":0},{"$f":"Blad2!F20","v":0},"",0,0,{"$f":"Blad2!I20","v":""},"",{"$f":"Blad2!K20","v":0},{"$f":"Blad2!L20","v":0},"",0,0,{"$f":"Blad2!M20","v":""},"",{"$f":"Blad2!O20","v":0},{"$f":"Blad2!P20","v":0},"",0,0,{"$f":"Blad2!Q20","v":""},"",{"$f":"Blad2!S20","v":0},{"$f":"Blad2!T20","v":0},"",0,0,{"$f":"Blad2!U20","v":""},"","","",100,"",100,"",100,"",{"$f":"IF(OR(AK$6=AK11,AK$7=AK11,AK$8=AK11,AK$9=AK11,AK$10=AK11,AK$12=AK11,AK$13=AK11,AK$14=AK11,AK$15=AK11,AK$16=AK11,AK$17=AK11,AK$18=AK11,AK$19=AK11,AK$20=AK11),AK11,0)","v":""},"","","","","","","","","","","","","","","",null,"","","","",0,0,0,0,0,0,0,0,100,0,0,0,0,0,"","","","",null,"","","","","","","",""]
["",{"$f":"Blad2!A21","v":0},{"$f":"Blad2!B21","v":0},{"$f":"Blad2!C21","v":0},{"$f":"IF(Blad2!D21=\"\",\"\",Blad2!D21)","v":""},{"$f":"Blad2!E21","v":0},{"$f":"Blad2!F21","v":0},"",0,0,{"$f":"Blad2!I21","v":""},"",{"$f":"Blad2!K21","v":0},{"$f":"Blad2!L21","v":0},"",0,0,{"$f":"Blad2!M21","v":""},"",{"$f":"Blad2!O21","v":0},{"$f":"Blad2!P21","v":0},"",0,0,{"$f":"Blad2!Q21","v":""},"",{"$f":"Blad2!S21","v":0},{"$f":"Blad2!T21","v":0},"",0,0,{"$f":"Blad2!U21","v":""},"","","",100,"",100,"",100,"",{"$f":"IF(OR(AK$6=AK12,AK$7=AK12,AK$8=AK12,AK$9=AK12,AK$10=AK12,AK$11=AK12,AK$13=AK12,AK$14=AK12,AK$15=AK12,AK$16=AK12,AK$17=AK12,AK$18=AK12,AK$19=AK12,AK$20=AK12),AK12,0)","v":""},"","","","","","","","","","","","","","","",null,"","","","",0,0,0,0,0,0,0,0,100,0,0,0,0,0,"","","","",null,"","","","","","","",""]
["",{"$f":"Blad2!A22","v":0},{"$f":"Blad2!B22","v":0},{"$f":"Blad2!C22","v":0},{"$f":"IF(Blad2!D22=\"\",\"\",Blad2!D22)","v":""},{"$f":"Blad2!E22","v":0},{"$f":"Blad2!F22","v":0},"",0,0,{"$f":"Blad2!I22","v":""},"",{"$f":"Blad2!K22","v":0},{"$f":"Blad2!L22","v":0},"",0,0,{"$f":"Blad2!M22","v":""},"",{"$f":"Blad2!O22","v":0},{"$f":"Blad2!P22","v":0},"",0,0,{"$f":"Blad2!Q22","v":""},"",{"$f":"Blad2!S22","v":0},{"$f":"Blad2!T22","v":0},"",0,0,{"$f":"Blad2!U22","v":""},"","","",{"$f":"IF(AI13=\"\",100,AI13)","v":100},"",100,"",100,"",{"$f":"IF(OR(AK$6=AK13,AK$7=AK13,AK$8=AK13,AK$9=AK13,AK$10=AK13,AK$11=AK13,AK$12=AK13,AK$14=AK13,AK$15=AK13,AK$16=AK13,AK$17=AK13,AK$18=AK13,AK$19=AK13,AK$20=AK13),AK13,0)","v":""},"","","","","","","","","","","","","","","",null,"","","","",0,0,0,0,0,0,0,0,100,0,0,0,0,0,"","","","",null,"","","","","","","",""]
["",{"$f":"Blad2!A23","v":0},{"$f":"Blad2!B23","v":0},{"$f":"Blad2!C23","v":0},{"$f":"IF(Blad2!D23=\"\",\"\",Blad2!D23)","v":""},{"$f":"Blad2!E23","v":0},{"$f":"Blad2!F23","v":0},{"$f":"IF((F14*60+G14)*IF($E14=\"\",0,E14)=0,\"\",(F14*60+G14)*$E14)","v":""},0,0,{"$f":"Blad2!I23","v":""},"",{"$f":"Blad2!K23","v":0},{"$f":"Blad2!L23","v":0},"",0,0,{"$f":"Blad2!M23","v":""},"",{"$f":"Blad2!O23","v":0},{"$f":"Blad2!P23","v":0},"",0,0,{"$f":"Blad2!Q23","v":""},"",{"$f":"Blad2!S23","v":0},{"$f":"Blad2!T23","v":0},"",0,0,{"$f":"Blad2!U23","v":""},"","","",{"$f":"IF(AI14=\"\",100,AI14)","v":100},"",100,"",100,"",{"$f":"IF(OR(AK$6=AK14,AK$7=AK14,AK$8=AK14,AK$9=AK14,AK$10=AK14,AK$11=AK14,AK$12=AK14,AK$13=AK14,AK$15=AK14,AK$16=AK14,AK$17=AK14,AK$18=AK14,AK$19=AK14,AK$20=AK14),AK14,0)","v":""},"","","","","","","","","","","","","","","",null,"","","","",0,0,0,0,0,0,0,0,100,0,0,0,0,0,"","","","",null,"","","","","","","",""]
["",{"$f":"Blad2!A24","v":0},{"$f":"Blad2!B24","v":0},{"$f":"Blad2!C24","v":0},{"$f":"IF(Blad2!D24=\"\",\"\",Blad2!D24)","v":""},{"$f":"Blad2!E24","v":0},{"$f":"Blad2!F24","v":0},"",0,0,{"$f":"Blad2!I24","v":""},"",{"$f":"Blad2!K24","v":0},{"$f":"Blad2!L24","v":0},{"$f":"IF((M15*60+N15)*IF($E15=\"\",0,$E15)=0,\"\",(M15*60+N15)*$E15)","v":""},0,0,{"$f":"Blad2!M24","v":""},"",{"$f":"Blad2!O24","v":0},{"$f":"Blad2!P24","v":0},{"$f":"IF((T15*60+U15)*IF($E15=\"\",0,$E15)=0,\"\",(T15*60+U15)*$E15)","v":""},0,0,{"$f":"Blad2!Q24","v":""},"",{"$f":"Blad2!S24","v":0},{"$f":"Blad2!T24","v":0},{"$f":"IF((AA15*60+AB15)*IF($E15=\"\",0,$E15)=0,\"\",(AA15*60+AB15)*$E15)","v":""},0,0,{"$f":"Blad2!U24","v":""},"","","",100,"",100,"",100,"",{"$f":"IF(OR(AK$6=AK15,AK$7=AK15,AK$8=AK15,AK$9=AK15,AK$10=AK15,AK$11=AK15,AK$12=AK15,AK$13=AK15,AK$14=AK15,AK$16=AK15,AK$17=AK15,AK$18=AK15,AK$19=AK15,AK$20=AK15),AK15,0)","v":""},"","","","","","","","","","","","","","","",null,"","","","",0,0,0,0,0,0,0,0,100,0,0,0,0,0,"","","","",null,"","","","","","","",""]
["",{"$f":"Blad2!A25","v":0},{"$f":"Blad2!B25","v":0},{"$f":"Blad2!C25","v":0},{"$f":"IF(Blad2!D25=\"\",\"\",Blad2!D25)","v":""},{"$f":"Blad2!E25","v":0},{"$f":"Blad2!F25","v":0},"",0,0,{"$f":"Blad2!I25","v":""},"",{"$f":"Blad2!K25","v":0},{"$f":"Blad2!L25","v":0},"",0,0,{"$f":"Blad2!M25","v":""},"",{"$f":"Blad2!O25","v":0},{"$f":"Blad2!P25","v":0},"",0,0,{"$f":"Blad2!Q25","v":""},"",{"$f":"Blad2!S25","v":0},{"$f":"Blad2!T25","v":0},"",0,0,{"$f":"Blad2!U25","v":""},"","","",100,"",100,"",100,"",{"$f":"IF(OR(AK$6=AK16,AK$7=AK16,AK$8=AK16,AK$9=AK16,AK$10=AK16,AK$11=AK16,AK$12=AK16,AK$13=AK16,AK$14=AK16,AK$15=AK16,AK$17=AK16,AK$18=AK16,AK$19=AK16,AK$20=AK16),AK16,0)","v":""},"","","","","","","","","","","","","","","",null,"","","","",0,0,0,0,0,0,0,0,100,0,0,0,0,0,"","","",{"$f":"IF($AP16=\"\",\"\",16-BQ16)","v":""},null,"","","","","","","",""]
["",{"$f":"Blad2!A26","v":0},{"$f":"Blad2!B26","v":0},{"$f":"Blad2!C26","v":0},{"$f":"IF(Blad2!D26=\"\",\"\",Blad2!D26)","v":""},{"$f":"Blad2!E26","v":0},{"$f":"Blad2!F26","v":0},"",0,0,{"$f":"Blad2!I26","v":""},"",{"$f":"Blad2!K26","v":0},{"$f":"Blad2!L26","v":0},"",0,0,{"$f":"Blad2!M26","v":""},"",{"$f":"Blad2!O26","v":0},{"$f":"Blad2!P26","v":0},"",0,0,{"$f":"Blad2!Q26","v":""},"",{"$f":"Blad2!S26","v":0},{"$f":"Blad2!T26","v":0},"",0,0,{"$f":"Blad2!U26","v":""},"","","",100,"",100,"",100,"",{"$f":"IF(OR(AK$6=AK17,AK$7=AK17,AK$8=AK17,AK$9=AK17,AK$10=AK17,AK$11=AK17,AK$12=AK17,AK$13=AK17,AK$14=AK17,AK$15=AK17,AK$16=AK17,AK$18=AK17,AK$19=AK17,AK$20=AK17),AK17,0)","v":""},"","","","","","","","","","","","","","","",null,"","","","",0,0,0,0,0,0,0,0,100,0,0,0,0,0,"","","",{"$f":"IF($AP17=\"\",\"\",16-BQ17)","v":""},null,"","","","","","","",""]
["",{"$f":"Blad2!A27","v":0},{"$f":"Blad2!B27","v":0},{"$f":"Blad2!C27","v":0},{"$f":"IF(Blad2!D27=\"\",\"\",Blad2!D27)","v":""},{"$f":"Blad2!E27","v":0},{"$f":"Blad2!F27","v":0},"",0,0,{"$f":"Blad2!I27","v":""},"",{"$f":"Blad2!K27","v":0},{"$f":"Blad2!L27","v":0},"",0,0,{"$f":"Blad2!M27","v":""},"",{"$f":"Blad2!O27","v":0},{"$f":"Blad2!P27","v":0},"",0,0,{"$f":"Blad2!Q27","v":""},"",{"$f":"Blad2!S27","v":0},{"$f":"Blad2!T27","v":0},"",0,0,{"$f":"Blad2!U27","v":""},"","","",100,"",100,"",100,"",{"$f":"IF(OR(AK$6=AK18,AK$7=AK18,AK$8=AK18,AK$9=AK18,AK$10=AK18,AK$11=AK18,AK$12=AK18,AK$13=AK18,AK$14=AK18,AK$15=AK18,AK$16=AK18,AK$17=AK18,AK$19=AK18,AK$20=AK18),AK18,0)","v":""},"","","","","","","","","","","","","","","",null,"","","","",0,0,0,0,0,0,0,0,100,0,0,0,0,0,"","","",{"$f":"IF($AP18=\"\",\"\",16-BQ18)","v":""},null,"","","","","","","",""]
["",{"$f":"Blad2!A28","v":0},{"$f":"Blad2!B28","v":0},{"$f":"Blad2!C28","v":0},{"$f":"IF(Blad2!D28=\"\",\"\",Blad2!D28)","v":""},{"$f":"Blad2!E28","v":0},{"$f":"Blad2!F28","v":0},"",0,0,{"$f":"Blad2!I28","v":""},"",{"$f":"Blad2!K28","v":0},{"$f":"Blad2!L28","v":0},"",0,0,{"$f":"Blad2!M28","v":""},"",{"$f":"Blad2!O28","v":0},{"$f":"Blad2!P28","v":0},"",0,0,{"$f":"Blad2!Q28","v":""},"",{"$f":"Blad2!S28","v":0},{"$f":"Blad2!T28","v":0},"",0,0,{"$f":"Blad2!U28","v":""},"","","",100,"",100,"",100,"",{"$f":"IF(OR(AK$6=AK19,AK$7=AK19,AK$8=AK19,AK$9=AK19,AK$10=AK19,AK$11=AK19,AK$12=AK19,AK$13=AK19,AK$14=AK19,AK$15=AK19,AK$16=AK19,AK$17=AK19,AK$18=AK19,AK$20=AK19),AK19,0)","v":""},"","","","","","","","","","","","","","","",null,"","","","",0,0,0,0,0,0,0,0,100,0,0,0,0,0,"","","",{"$f":"IF($AP19=\"\",\"\",16-BQ19)","v":""},null,"","","","","","","",""]
["",{"$f":"Blad2!A29","v":0},{"$f":"Blad2!B29","v":0},{"$f":"Blad2!C29","v":0},{"$f":"IF(Blad2!D29=\"\",\"\",Blad2!D29)","v":""},{"$f":"Blad2!E29","v":0},{"$f":"Blad2!F29","v":0},"",0,0,{"$f":"Blad2!I29","v":""},"",{"$f":"Blad2!K29","v":0},{"$f":"Blad2!L29","v":0},"",0,0,{"$f":"Blad2!M29","v":""},"",{"$f":"Blad2!O29","v":0},{"$f":"Blad2!P29","v":0},"",0,0,{"$f":"Blad2!Q29","v":""},"",{"$f":"Blad2!S29","v":0},{"$f":"Blad2!T29","v":0},"",0,0,{"$f":"Blad2!U29","v":""},"","","",100,"",100,"",100,"",{"$f":"IF(OR(AK$6=AK20,AK$7=AK20,AK$8=AK20,AK$9=AK20,AK$10=AK20,AK$11=AK20,AK$12=AK20,AK$13=AK20,AK$14=AK20,AK$15=AK20,AK$16=AK20,AK$17=AK20,AK$18=AK20,AK$19=AK20),AK20,0)","v":""},"","","","","","","","","","","","","","","",null,"","","","",0,0,0,0,0,0,0,0,100,0,0,0,0,0,"","","",{"$f":"IF($AP20=\"\",\"\",16-BQ20)","v":""},null,"","","","","","","",""]
[null,null,null,null,null,null,null,{"$f":"MIN(H6:H20)","v":0},null,null,null,null,null,null,{"$f":"MIN(O6:O20)","v":0},null,null,null,null,null,null,{"$f":"MIN(V6:V20)","v":0},null,null,null,null,null,null,{"$f":"MIN(AC6:AC20)","v":0}]